BEGIN:VCALENDAR
VERSION:2.0
PRODID:-//Emerald String Quartet • Seattle Based Musicians - ECPv6.15.20//NONSGML v1.0//EN
CALSCALE:GREGORIAN
METHOD:PUBLISH
X-WR-CALNAME:Emerald String Quartet • Seattle Based Musicians
X-ORIGINAL-URL:https://www.emeraldquartet.com
X-WR-CALDESC:Events for Emerald String Quartet • Seattle Based Musicians
REFRESH-INTERVAL;VALUE=DURATION:PT1H
X-Robots-Tag:noindex
X-PUBLISHED-TTL:PT1H
BEGIN:VTIMEZONE
TZID:UTC
BEGIN:STANDARD
TZOFFSETFROM:+0000
TZOFFSETTO:+0000
TZNAME:UTC
DTSTART:20250101T000000
END:STANDARD
END:VTIMEZONE
BEGIN:VEVENT
DTSTART;TZID=UTC:20260405T190000
DTEND;TZID=UTC:20260405T200000
DTSTAMP:20260423T204437
CREATED:20260407T150530Z
LAST-MODIFIED:20260407T150530Z
UID:3694-1775415600-1775419200@www.emeraldquartet.com
SUMMARY:Candlelight: The Best of Metallica and Schubert
DESCRIPTION:⭐   Candlelight  concerts bring the magic of a live\, multi-sensory musical experience to awe-inspiring locations like never seen before in Seattle. Get your tickets now to discover the music of Metallica and Schubert at Arctic Club Hotel under the gentle glow of candlelight.   \n  General Info\n📍 Venue: Arctic Club Hotel\n📅 Dates and times: select your dates/times directly in the ticket selector\n⏳ Duration: 60 minutes. Doors open 45 minutes before the show. No entry once it starts.\n👤 Age requirement: 8 years old or older. Anyone under the age of 16 must be accompanied by an adult\n♿ Accessibility: this venue is ADA compliant\n❓ View the FAQs for this event  here\n🪑 Seating is assigned on a first come first served basis in each zone\n🕯️ If you would like to book a private concert or buy regular tickets for a large group (+30 people)\, click  here\n🎻 Check out all the  Candlelight concerts  in Seattle\n🎁 To treat your friends and family to a Candlelight gift card\, click  here   \n  Tentative Program   \n	 Enter Sandman – Metallica\n	 String Quartet No. 14 in D Minor\, D. 810 “Death and the Maiden”: I. Allegro – Franz Schubert\n	 For Whom The Bell Tolls – Metallica\n	 Fade to Black – Metallica\n	 String Quartet No. 14 in D Minor\, D. 810 “Death and the Maiden”: II. Andante con moto – Franz Schubert\n	 Nothing Else Matters – Metallica\n	 String Quartet No. 14 in D Minor\, D. 810 “Death and the Maiden”: III. Scherzo (Allegro molto) – Franz Schubert\n	 Welcome Home (Sanitarium) – Metallica\n	 String Quartet No. 14 in D Minor\, D. 810 “Death and the Maiden”: IV. Presto – Franz Schubert  \n Performers   \n	 String Quartet – Seattle String Quartet – Seattle  \n  Seating Map
URL:https://www.emeraldquartet.com/concert/candlelight-the-best-of-metallica-and-schubert-2/
LOCATION:Arctic Club Hotel\, Seattle\, WA\, US
END:VEVENT
END:VCALENDAR