BEGIN:VCALENDAR
VERSION:2.0
PRODID:-//Emerald String Quartet • Seattle Based Musicians - ECPv6.15.20//NONSGML v1.0//EN
CALSCALE:GREGORIAN
METHOD:PUBLISH
X-WR-CALNAME:Emerald String Quartet • Seattle Based Musicians
X-ORIGINAL-URL:https://www.emeraldquartet.com
X-WR-CALDESC:Events for Emerald String Quartet • Seattle Based Musicians
REFRESH-INTERVAL;VALUE=DURATION:PT1H
X-Robots-Tag:noindex
X-PUBLISHED-TTL:PT1H
BEGIN:VTIMEZONE
TZID:UTC
BEGIN:STANDARD
TZOFFSETFROM:+0000
TZOFFSETTO:+0000
TZNAME:UTC
DTSTART:20250101T000000
END:STANDARD
END:VTIMEZONE
BEGIN:VEVENT
DTSTART;TZID=UTC:20260410T190000
DTEND;TZID=UTC:20260410T200000
DTSTAMP:20260423T135449
CREATED:20260407T150452Z
LAST-MODIFIED:20260407T150452Z
UID:3702-1775847600-1775851200@www.emeraldquartet.com
SUMMARY:Candlelight: The Best of Hans Zimmer
DESCRIPTION:⭐   Candlelight  concerts bring the magic of a live\, multi-sensory musical experience to awe-inspiring locations like never seen before in Seattle. Get your tickets now to discover the music of Hans Zimmer at Arctic Club Hotel under the gentle glow of candlelight.   \n  General Info\n📍 Venue: Arctic Club Hotel\n📅 Dates and times: select your dates/times directly in the ticket selector\n⏳ Duration: 60 minutes. Doors open 45 minutes before the show and  close 5 minutes prior to the start. Late arrivals will not be permitted\n👤 Age requirement: 8 years old or older. Anyone under the age of 16 must be accompanied by an adult\n♿ Accessibility: this venue is ADA compliant\n❓ View the FAQs for this event  here\n🪑 Seating is assigned on a first come first served basis in each zone\n🕯️ If you would like to book a private concert or buy regular tickets for a large group (+30 people)\, click  here\n🎻 Check out all the  Candlelight concerts  in Seattle\n🎁 To treat your friends and family to a Candlelight gift card\, click  here   \n  Tentative Program   \n	 Time –  Inception\n	 This Land –  The Lion King\n	 Zooster’s Breakout –  Madagascar\n	 Supermarine –  Dunkirk\n	 Honor –  The Pacific\n	 A Dark Knight –  The Dark Knight\n	  Wonder Woman  Suite\n	  Gladiator  Suite\n	 Cornfield Chase –  Interstellar\n	  Dune  Suite\n	 Discombobulate –  Sherlock Holmes\n	  Pirates of the Caribbean  Suite  \n Performers   \n	 String Quartet – Listeso – Seattle  \n  Seating Map   \nProgram\n\nTime –\nInception\nThis Land –\nThe Lion King\nZooster’s Breakout –\nMadagascar\nSupermarine –\nDunkirk\nHonor –\nThe Pacific\nA Dark Knight –\nThe Dark Knight\nWonder Woman\nSuite\nGladiator\nSuite\nCornfield Chase –\nInterstellar\nDune\nSuite\nDiscombobulate –\nSherlock Holmes\nPirates of the Caribbean\nSuite\n\nEvent Details\n\nVenue: Arctic Club Hotel\nCity: Seattle\nShowtimes: 8:30p\nPerformers: String Quartet – Listeso – Seattle\nTickets: From $50.5\n\nBuy Tickets  |  Get a Quote
URL:https://www.emeraldquartet.com/concert/candlelight-the-best-of-hans-zimmer-5/
LOCATION:Arctic Club Hotel\, Seattle\, WA\, US
END:VEVENT
END:VCALENDAR