BEGIN:VCALENDAR
VERSION:2.0
PRODID:-//Emerald String Quartet • Seattle Based Musicians - ECPv6.15.20//NONSGML v1.0//EN
CALSCALE:GREGORIAN
METHOD:PUBLISH
X-WR-CALNAME:Emerald String Quartet • Seattle Based Musicians
X-ORIGINAL-URL:https://www.emeraldquartet.com
X-WR-CALDESC:Events for Emerald String Quartet • Seattle Based Musicians
REFRESH-INTERVAL;VALUE=DURATION:PT1H
X-Robots-Tag:noindex
X-PUBLISHED-TTL:PT1H
BEGIN:VTIMEZONE
TZID:UTC
BEGIN:STANDARD
TZOFFSETFROM:+0000
TZOFFSETTO:+0000
TZNAME:UTC
DTSTART:20250101T000000
END:STANDARD
END:VTIMEZONE
BEGIN:VEVENT
DTSTART;TZID=UTC:20260409T190000
DTEND;TZID=UTC:20260409T200000
DTSTAMP:20260423T185449
CREATED:20260407T150507Z
LAST-MODIFIED:20260407T150507Z
UID:3697-1775761200-1775764800@www.emeraldquartet.com
SUMMARY:Candlelight: Queen vs. ABBA
DESCRIPTION:⭐   Candlelight  concerts bring the magic of a live\, multi-sensory musical experience to awe-inspiring locations like never seen before in Seattle. Get your tickets now to discover the music of Queen vs. ABBA at Arctic Club Hotel under the gentle glow of candlelight.   \n  General Info\n📍 Venue: Arctic Club Hotel\n📅 Dates and times: select your dates/times directly in the ticket selector\n⏳ Duration: 60 minutes. Doors open 45 minutes before the show. No entry once it starts.\n👤 Age requirement: 8 years old or older. Anyone under the age of 16 must be accompanied by an adult\n♿ Accessibility: this venue is ADA compliant\n❓ View the FAQs for this event  here\n🪑 Seating is assigned on a first come first served basis in each zone\n🕯️ If you would like to book a private concert or buy regular tickets for a large group (+30 people)\, click  here\n🎻 Check out all the  Candlelight concerts  in Seattle\n🎁 To treat your friends and family to a Candlelight gift card\, click  here   \n  Tentative Program   \n	 Dancing Queen – ABBA\n	 SOS – ABBA\n	 Money\, Money\, Money – ABBA\n	 Voulez Vous – ABBA\n	 Bohemian Rhapsody – Queen\n	 I Want to Break Free – Queen\n	 Killer Queen – Queen\n	 Waterloo – ABBA\n	 Super Trouper – ABBA\n	 Mamma Mia – ABBA\n	 Don’t Stop Me Now – Queen\n	 We Will Rock You – Queen\n	 We Are the Champions – Queen\n	 Gimme Gimme Gimme – ABBA  \n  Performers   \n	 String Quartet – Seattle String Quartet  \n  Seating Map   \nEvent Details\n\nVenue: Arctic Club Hotel\nCity: Seattle\nShowtimes: 4:00p\, 8:30p\nPerformers: String Quartet – Seattle String Quartet\n\nBuy Tickets  |  Get a Quote
URL:https://www.emeraldquartet.com/concert/candlelight-queen-vs-abba-4/
LOCATION:Arctic Club Hotel\, Seattle\, WA\, US
END:VEVENT
END:VCALENDAR