BEGIN:VCALENDAR
VERSION:2.0
PRODID:-//Emerald String Quartet • Seattle Based Musicians - ECPv6.15.20//NONSGML v1.0//EN
CALSCALE:GREGORIAN
METHOD:PUBLISH
X-WR-CALNAME:Emerald String Quartet • Seattle Based Musicians
X-ORIGINAL-URL:https://www.emeraldquartet.com
X-WR-CALDESC:Events for Emerald String Quartet • Seattle Based Musicians
REFRESH-INTERVAL;VALUE=DURATION:PT1H
X-Robots-Tag:noindex
X-PUBLISHED-TTL:PT1H
BEGIN:VTIMEZONE
TZID:UTC
BEGIN:STANDARD
TZOFFSETFROM:+0000
TZOFFSETTO:+0000
TZNAME:UTC
DTSTART:20250101T000000
END:STANDARD
END:VTIMEZONE
BEGIN:VEVENT
DTSTART;TZID=UTC:20260416T190000
DTEND;TZID=UTC:20260416T200000
DTSTAMP:20260423T152538
CREATED:20260407T150412Z
LAST-MODIFIED:20260407T150412Z
UID:3705-1776366000-1776369600@www.emeraldquartet.com
SUMMARY:Candlelight: A Tribute to Taylor Swift
DESCRIPTION:⭐   Candlelight  concerts bring the magic of a live\, multi-sensory musical experience to awe-inspiring locations like never seen before in Seattle. Get your tickets now to discover the music of Taylor Swift at Arctic Club Hotel under the gentle glow of candlelight.\n   \n  General Info\n📍 Venue: Arctic Club Hotel\n📅 Dates and times: select your dates/times directly in the ticket selector\n⏳ Duration: 60 minutes. Doors open 60 minutes before the show and  close 5 minutes prior to the start. Late arrivals will not be permitted\n👤 Age requirement: 8 years old or older. Anyone under the age of 16 must be accompanied by an adult\n♿ Accessibility: this venue is ADA compliant\n❓ View the FAQs for this event  here\n🪑 Seating is assigned on a first come first served basis in each zone\n🕯️ If you would like to book a private concert or buy regular tickets for a large group (+30 people)\, click  here\n🎻 Check out all the  Candlelight concerts  in Seattle\n🎁 To treat your friends and family to a Candlelight gift card\, click  here   \n  Tentative Program   \n	 “Lavender Haze”\n	 “Love Story”\n	 “Cardigan”\n	 “Blank Space”\n	 “Enchanted”\n	 “Anti-Hero”\n	 “Snow on the Beach (ft. Lana Del Rey)”\n	 “We Are Never Ever Getting Back Together”\n	 “Wildest Dreams”\n	 “Lover”\n	 “I Knew You Were Trouble”\n	 “You Belong With Me”\n	 “Shake It Off”  \n  Performers   \n	 Seattle Quartet \n		 Emilie Choi\n		 Sol Im\n		 Alexander Grimes\n		 Christine Lee  \n  \n  Seating Map   \nEvent Details\n\nVenue: Arctic Club Hotel\nCity: Seattle\nShowtimes: 6:15p\nPerformers: Seattle Quartet\, Emilie Choi\, Sol Im\, Alexander Grimes\, Christine Lee\n\nBuy Tickets  |  Get a Quote
URL:https://www.emeraldquartet.com/concert/candlelight-a-tribute-to-taylor-swift-5/
LOCATION:Arctic Club Hotel\, Seattle\, WA\, US
END:VEVENT
END:VCALENDAR